BEGIN:VCALENDAR
VERSION:2.0
PRODID:-//wp-events-plugin.com//7.2.3.1//EN
BEGIN:VEVENT
UID:358@leidscherijnouders.nl
DTSTART:20260417T090000Z
DTEND:20260417T110000Z
DTSTAMP:20260310T102811Z
URL:https://leidscherijnouders.nl/events/hb-netwerk-koffie-en-kids-0-6-the
 ma-ped-sensitiviteit-van-ons-als-ouders/
SUMMARY:Hb-netwerk: Koffie en kids (0-6) thema: ped. sensitiviteit van ons 
 als ouders
DESCRIPTION:Onze eerste Koffie en kids van het jaar - wij verheugen ons op 
 Tania van de Bergh RITA/ECHA-Practitioner -\nWij hebben jullie in onze Hb-
 netwerk WhatsApp-Community gevraagd\, welke thema's jullie fijn vinden. Pe
 dagogische sensitiviteit hebben jullie duidelijk aangegeven - zo et voilà
  -\nTania heeft hierop gereageert en beschrijft haar eerste koffie en kids
  als volgt:\nJonge kinderen met kenmerken van hoogbegaafdheid kunnen inten
 s\, nieuwsgierig en gevoelig zijn. Dat kan prachtig zijn\, maar soms ook u
 itdagend in de opvoeding. In deze bijeenkomst staat pedagogische sensitiv
 iteit centraal: wat betekent het om sensitief en responsief op je kind te
  reageren\, en waarom is dit juist bij hoogbegaafde jonge kinderen zo bela
 ngrijk?\nWe bespreken hoe je signalen van je kind beter kunt herkennen en 
 begrijpen\, hoe je kunt aansluiten bij hun behoeften en hoe een balans tus
 sen duidelijke grenzen\, autonomie en emotionele ondersteuning kan helpen 
 bij hun ontwikkeling en welzijn.\n\n\nJe krijgt praktische handvatten voor
  thuis én de mogelijkheid om ervaringen te delen met andere ouders. Deze 
 bijeenkomst kan je helpen om je kind beter te begrijpen en met meer vertro
 uwen te reageren op wat jouw kind nodig heeft. Je bent van harte welkom.\n
 \nLaat je weten of je komt? Dan kunnen wij ervoor zorgen\, dat er voor ied
 ereen plek is. Wij hebben ruimte voor max. 10 ouders. (plus kids \;-) Heb 
 je je aangemeld en kun je toch niet niet erbij zijn? No worries. het is fi
 jn\, als je het ons laat weten: hbconnectlr@gmail.com\n\nHet koffie en kid
 s thema broers/ zussen - was jullie tweede wens en komt op vrijdag 29/mei 
 09:00-11:00\n\nVoor jullie ouders/ verzorgers ter info:\n\n  Even sparre
 n? Je zorgen delen? Of een idee inbrengen?\nSoms heb je gewoon even iemand
  nodig om je verhaal bij kwijt te kunnen – over wat er speelt in de opvo
 eding\, thuis of met je kind. Bij LR-ouders Connected/ het Hb-netwerk is d
 aar ruimte voor. Je bent van harte welkom voor een 1-op-1 gesprek\, om je 
 zorgen te delen of even te sparren.\n\nWe denken graag met je mee. En als 
 je dat fijn vindt\, kunnen we je ook in contact brengen met andere ouders 
 of met het Netwerk Informele Zorg Utrecht (NIZU/ https://www.nizu.nl/ik-m
 eld-me-aan-als-nizu-deelnemer/) – een informele netwerk van mensen die 
 graag iets voor elkaar willen betekenen.\n\n Zelf iets bijdragen?\nBen je
  geïnspireerd door onze workshops of activiteiten en heb je ideeën of en
 ergie om zelf iets te doen? Ook dan denken we graag met je mee. Of je nu i
 ets kleins wilt bijdragen of een groter idee hebt: je bent welkom in onze 
 warme\, groeiende community.\n Stuur ons gerust een bericht – we luiste
 ren en denken graag met je mee (leidscherijnouders@gmail.com).\n\nEnglish 
 below:\n\nOur first Coffee and Kids of the Year - we look forward to welco
 ming Tania van de Bergh\, RITA/ECHA Practitioner.\n\nWe asked you in our H
 b network WhatsApp Community which topics you would like to see covered. Y
 ou clearly indicated pedagogical sensitivity - so voilà -\n\nTania respon
 ded and describes her first Coffee and Kids as follows:\n\nYoung children 
 with characteristics of giftedness can be intense\, curious\, and sensitiv
 e. This can be wonderful\, but sometimes also challenging in terms of pare
 nting. This meeting focuses on pedagogical sensitivity: what does it mean 
 to respond to your child in a sensitive and responsive way\, and why is th
 is so important\, especially with gifted young children?\n\nWe will discus
 s how you can better recognize and understand your child's signals\, how y
 ou can meet their needs\, and how a balance between clear boundaries\, aut
 onomy\, and emotional support can help their development and well-being.\n
 \nYou will receive practical tools for use at home and the opportunity to 
 share experiences with other parents. This meeting can help you to underst
 and your child better and respond with more confidence to what your child 
 needs. You are very welcome to attend.\n\nWill you let us know if you're c
 oming? That way we can make sure there's room for everyone. We have space 
 for up to 10 parents (plus kids \;-) Have you registered but can't make it
  after all? No worries. Just let us know at hbconnectlr@gmail.com.\n\nThe 
 coffee and kids theme brothers/sisters was your second choice and will tak
 e place on Friday\, May 29\, from 9:00 to 11:00 a.m.\nFor parents &amp\; c
 aregivers – good to know\n Need someone to talk to? Want to share conce
 rns or ideas?Sometimes you just need a listening ear — about parenting\,
  family life\, or what’s happening with your child. At Leidsche Rijn Ou
 ders-Connected / the HB Network\, there is space for that. You are very we
 lcome for a 1-on-1 conversation\, to share your concerns or reflect toget
 her.\nJoin our WhatsApp-community: https://chat.whatsapp.com/CuHDy8KkbHc67
 nq51QRdTz\nWe’re happy to think along with you. If helpful\, we can also
  connect you with other parents or with the Netwerk Informele Zorg Utrech
 t (NIZU) — an informal network of people who want to support one anothe
 r: https://www.nizu.nl/ik-meld-me-aan-als-nizu-deelnemer/\n Would you li
 ke to contribute yourself?Have our workshops or activities inspired you\, 
 and do you have ideas or energy to share? Whether it’s something small o
 r a bigger plan — you are warmly welcome in our growing community. We’
 re happy to think along with you.\n Feel free to reach out — we listen
  and think with you:leidscherijnouders@gmail.com\n&nbsp\;\n\n
LOCATION:Komu Utrecht - Café\, Statendaalder 136\, Utrecht \, Utrecht\, 35
 41 HN\, Nederland
X-APPLE-STRUCTURED-LOCATION;VALUE=URI;X-ADDRESS=Statendaalder 136\, Utrecht
  \, Utrecht\, 3541 HN\, Nederland;X-APPLE-RADIUS=100;X-TITLE=Komu Utrecht 
 - Café:geo:0,0
END:VEVENT
END:VCALENDAR