BEGIN:VCALENDAR
VERSION:2.0
PRODID:-//wp-events-plugin.com//7.2.3.1//EN
BEGIN:VEVENT
UID:277@leidscherijnouders.nl
DTSTART:20260703T150000Z
DTEND:20260703T160000Z
DTSTAMP:20260203T133642Z
URL:https://leidscherijnouders.nl/events/hb-netwerk-stem-workshopserie-ket
 tingreactie-bouwen-9-12-jaar-3jul-deel3/
SUMMARY:Hb-netwerk: STEM Workshopserie 'Kettingreactie Bouwen'\, groep (A) 
 9-12 jaar (deel 3) = VOL
DESCRIPTION:Wat fijn dat jullie er weer zijn! Wij werken ook dit keer weer 
 samen met Pharos (Regio Utrecht-Gooi-Eemland)\, de oudervereiniging voor o
 uders met hoogbegaafde kids. \n\n🔧 In deze workshopserie ontwerpen en 
 bouwen we een uitgebreide\, werkende kettingreactie. 🔗✨\nWe maken geb
 ruik van diverse fysieke principes en materialen om een aaneenschakeling v
 an gebeurtenissen te creëren. ⚙️🎢\n\n📚 Inhoud van de Workshop:\
 n\nWe zullen onder andere de volgende elementen in de kettingreactie integ
 reren en met elkaar verbinden:\n\n🎢 Een knikkerbaan\n🎯 Een Gaussian 
 gun\n💧 Vallend water\n🎈 Het effect van ballonnen (die leeglopen of j
 uist vollopen)\n💡 Aanvullende elementen en mechanismen die de groep zel
 f bedenkt.\n\n🏗️ Opbouw van de Lessen:\n\n🧪 Les 1 &amp\; 2 (Onderz
 oek en Koppelen):\n\nDe eerste twee lessen staan in het teken van het onde
 rzoeken van de verschillende onderdelen. 🔍\nWe testen de betrouwbaarhei
 d van elk element en zorgen ervoor dat de overgang ("koppeling") tussen de
  onderdelen goed werkt. 🔗⚙️\n\n🚀 Les 3: Aan het einde van de der
 de les gaan we proberen de complete kettingreactie succesvol en zonder ond
 erbreking van start tot finish uit te voeren. ✔️🎉\n\n👩‍🏫 De
  workshop wordt gegeven door STEMjuf Ingrid (STEM - Science\, Technology\,
  Engineering\, Math) en de workshop kan alleen gezamelijk als drie delen g
 evolgd worden.\n- aanmelden kan via: https://pharos-sandbox.mxapps.io/inde
 x.html\n- Heb jij vragen of problemen met de aanmelding kun je altijd schr
 ijven aan: utrecht-gooi-eemland@pharosnl.nl\n\n📆 Voor wie?\n\nEr zijn t
 wee groepen:\n\n 	Groep A: van 9 t/m 12 jaar (15:00-16:00)\n 	Groep B: van
  6 t/m 8 jaar (16:15-17:15)\n\nAantal Sessies: 3 vrijdagmiddagen\nData: 5\
 ,19 juni en 3 juli 2026\n\nLet op: De inschrijving is geldig voor alle 3 d
 e workshopdagen.\n\n☕ En voor ouders…Tijdens de les staat er iets le
 kkers klaar en is er ruimte om elkaar te ontmoeten en uit te wisselen.Oo
 k fijn: soms heeft juf Ingrid een beetje hulp nodig. Laat het ons weten a
 ls je erbij kunt zijn – je aanwezigheid maakt het voor iedereen fijner.\
 n🌱 ... en wil je meer doen rondom het thema hoogbegaafdheid? Sluit je a
 an bij onze hb-community. \nBen je door de STEM-workshops geïnspireerd e
 n wil je zelf iets bijdragen maar zoek je nog naar een passende genegenhei
 d?Bij ons Oudernetwerk Hb-netwerk LR denken we graag met je mee hoe jouw i
 deeën vorm geven:\n📬 Heb je een idee voor een activiteit of workshop\
 , maar weet je nog niet precies hoe je dat kunt aanpakken?🧠 Of wil je 
 gewoon af en toe meedenken of iets kleins bijdragen?\n📱 Laat het ons w
 eten – Je kunt ons altijd mailen: hbconnectlr@gmail.com\nEnglish below:
 \n\nWe are delighted to have you back! This time\, we are once again colla
 borating with Pharos (Regio Utrecht-Gooi-Eemland)\, the parents' associati
 on for parents with highly gifted children.\n\n🔧 In this workshop serie
 s\, we will design and build an elaborate\, fully functioning chain reacti
 on. 🔗✨\nWe will use various physical principles and materials to crea
 te a sequence of interconnected events. ⚙️🎢\n\n📚 Workshop Conten
 t:\n\nWe will integrate and connect the following elements in the chain re
 action\, among others:\n\n🎢 A marble track\n🎯 A Gaussian gun\n💧 F
 alling water\n🎈 The effect of balloons (deflating or inflating)\n💡 A
 dditional elements and mechanisms invented by the group.\n\n🏗️ Lesson
  Structure:\n\n🧪 Lessons 1 &amp\; 2 (Exploration and Linking):\n\nThe f
 irst two lessons are dedicated to exploring the different components. 🔍
 \nWe test the reliability of each element and make sure the transition (
 “link”) between them works smoothly. 🔗⚙️\n\n🚀 Lesson 3: At t
 he end of the third lesson\, we will attempt to run the complete chain rea
 ction successfully from start to finish without interruption. ✔️🎉\n
 \nThe workshop is led by STEMteacher Ingrid (STEM = Science\, Technology\,
  Engineering &amp\; Math) and must be attended as a complete three-part se
 ries.\n📩 Register at:https://pharos-sandbox.mxapps.io/index.htmlQuestio
 ns or trouble registering? Email: utrecht-gooi-eemland@pharosnl.nl\n📆 W
 ho is it for?\n\n\n 	Group A: Ages 9–12 (15:00–16:00)\n 	Group B: Ages
  6–8 (16:15–17:15)\n\nNumber of Sessions: 3 Friday afternoons\nDates:
  5 and 19 June and 3 July 2026\n👨‍👩‍👧 And for parents...Duri
 ng the workshop\, we’ll have something tasty ready\, and there will be s
 pace to meet and chat with other parents.Also nice: sometimes teacher Ingr
 id can use a little help. If you’re able to be there\, let us know — y
 our presence makes it even better for everyone.\n\n🌱 … and would you 
 like to do more around the theme of giftedness? Join our HB community!\nHa
 ve the STEM workshops inspired you\, and would you like to contribute — 
 but you’re still looking for the right way to get involved?At our Parent
  Network HB-Netwerk LR\, we’d love to think along with you about how you
 r ideas can take shape.\n📬 Do you have an idea for an activity or works
 hop\, but you're not quite sure how to make it happen?\n🧠 Or would you 
 simply like to brainstorm now and then or contribute something small?\n
 📱Let us know — you can always email us at hbconnectlr@gmail.com\n \n
LOCATION:STEM- Juf Ingrid\, Korianderstraat 150\, Utrecht-Leidsche Rijn\, N
 etherlands\, 3544BS\, Nederland
X-APPLE-STRUCTURED-LOCATION;VALUE=URI;X-ADDRESS=Korianderstraat 150\, Utrec
 ht-Leidsche Rijn\, Netherlands\, 3544BS\, Nederland;X-APPLE-RADIUS=100;X-T
 ITLE=STEM- Juf Ingrid:geo:0,0
END:VEVENT
END:VCALENDAR