BEGIN:VCALENDAR
VERSION:2.0
PRODID:-//wp-events-plugin.com//7.2.3.1//EN
BEGIN:VEVENT
UID:359@leidscherijnouders.nl
DTSTART:20260417T093000Z
DTEND:20260417T113000Z
DTSTAMP:20260415T125136Z
URL:https://leidscherijnouders.nl/events/moms-connect-april/
SUMMARY:Moms Connect: Voor moeders van een kind met een extra zorgbehoefte
DESCRIPTION:Een kind met ADHD\, autisme\, dyslexie\, (niet) aangeboren hers
 enletsel\, epilepsie\, CP\, slecht horend/ziend of andere mentale en/of fy
 sieke uitdagingen\, vraagt vaak nét wat meer.\n\nMeer van je tijd\, je en
 ergie en je aandacht.\n\nDie zorg draag je met alle liefde. Maar hoe betro
 kken je omgeving ook is… vaak begrijpt niemand écht wat dit van je vraa
 gt. De constante alertheid\, het schakelen\, het regelen rondom zorg\, sch
 ool en thuis\, en de zorgen die je met je meedraagt over nu en later.\n\nS
 oms kan het daardoor voelen alsof je er alleen voor staat.\n\nDeze Moms Co
 nnect ochtend is er voor moeders van een kind met een extra zorgbehoefte.\
 n\nIn een kleine\, veilige groep creëren we ruimte voor jouw verhaal. Voo
 r alles wat er is: de liefde\, de kracht\, maar ook de vermoeidheid\, de z
 orgen en de momenten waarop het even te veel voelt. Zonder oordeel en zond
 er dat je hoeft uit te leggen — omdat er herkenning is.\n\nEen plek waar
  je even mag landen.\n\nJe hoeft het hier niet alleen te doen.\nHet is een
  ochtend om op adem te komen\, ervaringen te delen en te voelen dat je ged
 ragen wordt door andere moeders die écht begrijpen wat jij meemaakt.\nJe 
 bent zo welkom.\n\nWil je meer uitwisselen met andere ouders b.v. rondom h
 et thema moederschap/ moeder-zijn/ creatieviteit? Sluit je aan bij onze (o
 nline) WhatsAppcommunity\n\nBen je door onze meet-up’s en/of workshops g
 eïnspireerd en wil je zelf iets bijdragen maar zoek je nog naar een passe
 nde genegenheid?\nBij ons Oudernetwerk Leidsche Rijn Ouders-Connected denk
 en we graag met je mee hoe jouw ideeën vorm geven:\n\n📬 Heb je een ide
 e voor een activiteit of workshop\, maar weet je nog niet precies hoe je d
 at kunt aanpakken?\n🧠 Of wil je gewoon af en toe meedenken of iets klei
 ns bijdragen?\nOf wil je gewoon kennis maken? Zit je ergens mee?\n\n📱 L
 aat het ons weten – je bent van harte welkom (leidscherijnouders@gmail.c
 om)\n\n&nbsp\;\n\nEnglish below:\nA child with ADHD\, autism\, dyslexia\, 
 (non-)acquired brain injury\, epilepsy\, CP\, hearing or visual impairment
 s\, or other mental and/or physical challenges often requires just that li
 ttle bit more.\nMore of your time\, your energy\, and your attention.\nYou
  carry that care with so much love. But no matter how supportive the peopl
 e around you are… often no one truly understands what this asks of you. 
 The constant alertness\, the switching\, the organizing around care\, scho
 ol\, and home — and the worries you carry with you about now and the fut
 ure.\nAt times\, it can feel like you’re doing it all on your own.\nThis
  Moms Connect morning is for mothers of a child with additional care needs
 .\nIn a small\, safe group\, we create space for your story. For everythin
 g that is there: the love\, the strength\, but also the exhaustion\, the w
 orries\, and the moments when it all feels like too much. Without judgment
 \, and without needing to explain — because there is understanding.\nA p
 lace where you are allowed to land for a moment.\nYou don’t have to do t
 his alone.\nIt’s a morning to catch your breath\, share experiences\, an
 d feel supported by other mothers who truly understand what you’re going
  through.\nYou are so welcome. 🤍\nIn advance to you for your informatio
 n:\n\nWould you like to exchange more with other parents e.g. around the t
 opic of motherhood/motherhood? Join our (online) WhatsApp community.\n\nA
 re you inspired by our meet-ups and/or workshops and would you like to con
 tribute something yourself but are still looking for an appropriate affect
 ion?\n\nAt our Parent Network Leidsche Rijn Parents-Connected we like to t
 hink with you how your ideas take shape:\n\nDo you have an idea for an act
 ivity or workshop\, but are not yet sure how to go about it?\n\nOr do you 
 just want to contribute something small?\n\nOr do you just want to get acq
 uainted? Something on your mind?\n\nLet us know – you’re welcome (leid
 scherijnouders@gmail.com)
LOCATION:Buurtcentrum Hoge Weide Zaal 4\, Laurierweg 104\, Utrecht\, Nederl
 and
X-APPLE-STRUCTURED-LOCATION;VALUE=URI;X-ADDRESS=Laurierweg 104\, Utrecht\, 
 Nederland;X-APPLE-RADIUS=100;X-TITLE=Buurtcentrum Hoge Weide Zaal 4:geo:0,
 0
END:VEVENT
END:VCALENDAR