BEGIN:VCALENDAR
VERSION:2.0
PRODID:-//wp-events-plugin.com//7.2.3.1//EN
BEGIN:VEVENT
UID:361@leidscherijnouders.nl
DTSTART:20260612T093000Z
DTEND:20260612T113000Z
DTSTAMP:20260415T125207Z
URL:https://leidscherijnouders.nl/events/moms-connect-juni/
SUMMARY:Moms Connect: De relatie met je partner sinds het ouderschap
DESCRIPTION:De komst van een kind verandert alles. Ook je relatie.\n\nWaar 
 er eerst tijd en aandacht was voor elkaar\, draait het nu vaak om zorgen\,
  regelen en doorgaan. Gesprekken gaan sneller over praktische dingen dan o
 ver hoe het écht met je gaat. En momenten samen zijn minder vanzelfspreke
 nd geworden.\n\nMisschien voel je dat jullie wat verder uit elkaar zijn ge
 groeid. Of dat je elkaar soms minder goed begrijpt. Dat de verbinding ande
 rs is geworden en dat je daar ergens naar verlangt\, maar niet altijd weet
  hoe.\n\nEn tegelijk is daar ook de liefde. De basis die er nog steeds is\
 , maar soms wat verstopt raakt onder alles wat het ouderschap met zich mee
 brengt.\n\nDeze Moms Connect ochtend staat in het teken van de relatie met
  je partner sinds het ouderschap.\n\nIn een kleine\, warme en veilige groe
 p creëren we ruimte om hier eerlijk bij stil te staan. Voor alles wat er 
 is: de liefde\, de irritaties\, het gemis\, de verbinding en alles daartus
 senin. Zonder oordeel\, zonder dat het perfect hoeft te zijn.\n\nEen momen
 t om stil te staan bij jullie als partners en bij wat jij nodig hebt binne
 n die relatie.\n\nJe hoeft het niet alleen te doen.\n\nVoel je welkom. 
 🤍\n\n&nbsp\;\n\nWil je meer uitwisselen met andere ouders b.v. rondom h
 et thema moederschap/ moeder-zijn/ creatieviteit? Sluit je aan bij onze (o
 nline) WhatsAppcommunity\n\nBen je door onze meet-up’s en/of workshops g
 eïnspireerd en wil je zelf iets bijdragen maar zoek je nog naar een passe
 nde genegenheid?\n\nBij ons Oudernetwerk Leidsche Rijn Ouders-Connected de
 nken we graag met je mee hoe jouw ideeën vorm geven:\n\n📬 Heb je een i
 dee voor een activiteit of workshop\, maar weet je nog niet precies hoe je
  dat kunt aanpakken?\n\n🧠 Of wil je gewoon af en toe meedenken of iets 
 kleins bijdragen?\n\nOf wil je gewoon kennis maken? Zit je ergens mee?\n\n
 📱 Laat het ons weten – je bent van harte welkom (leidscherijnouders@g
 mail.com)\n\n&nbsp\;\n\nEnglish below:\n\nThe arrival of a child changes e
 verything. Including your relationship.\n\nWhere there was once time and a
 ttention for each other\, life now often revolves around caring\, organizi
 ng\, and simply getting through the day. Conversations tend to be more abo
 ut practical things than about how you’re really doing. And spending tim
 e together is no longer something that just happens naturally.\n\nMaybe yo
 u feel like you’ve grown a bit apart. Or that you don’t always underst
 and each other the way you used to. That the connection has changed — an
 d that you long for it\, but don’t always know how to find your way back
 .\n\nAnd at the same time\, the love is still there. The foundation you bu
 ilt together hasn’t disappeared\, but it can sometimes feel hidden under
 neath everything that comes with parenthood.\n\nThis Moms Connect morning 
 is all about your relationship with your partner since becoming parents.\n
 \nIn a small\, warm\, and safe group\, we create space to reflect on this 
 honestly. For everything that’s there: the love\, the frustrations\, the
  distance\, the connection — and everything in between. Without judgment
 \, and without needing things to be perfect.\n\nA moment to pause and refl
 ect on your relationship — and on what you need within it.\n\nYou don’
 t have to do this alone.\n\nYou are so welcome. 🤍\n\n&nbsp\;\n\nIn adva
 nce to you for your information:\n\nWould you like to exchange more with o
 ther parents e.g. around the topic of motherhood/motherhood? Join our (onl
 ine) WhatsApp community.\n\nAre you inspired by our meet-ups and/or works
 hops and would you like to contribute something yourself but are still loo
 king for an appropriate affection?\n\nAt our Parent Network Leidsche Rijn 
 Parents-Connected we like to think with you how your ideas take shape:\n\n
 Do you have an idea for an activity or workshop\, but are not yet sure how
  to go about it?\n\nOr do you just want to contribute something small?\n\n
 Or do you just want to get acquainted? Something on your mind?\n\nLet us k
 now – you’re welcome (leidscherijnouders@gmail.com)
LOCATION:Buurtcentrum Hoge Weide Zaal 4\, Laurierweg 104\, Utrecht\, Nederl
 and
X-APPLE-STRUCTURED-LOCATION;VALUE=URI;X-ADDRESS=Laurierweg 104\, Utrecht\, 
 Nederland;X-APPLE-RADIUS=100;X-TITLE=Buurtcentrum Hoge Weide Zaal 4:geo:0,
 0
END:VEVENT
END:VCALENDAR