BEGIN:VCALENDAR
VERSION:2.0
PRODID:-//wp-events-plugin.com//7.2.3.1//EN
BEGIN:VEVENT
UID:360@leidscherijnouders.nl
DTSTART:20260522T093000Z
DTEND:20260522T113000Z
DTSTAMP:20260415T125056Z
URL:https://leidscherijnouders.nl/events/moms-connect-mei/
SUMMARY:Moms Connect: Jezelf wegcijferen
DESCRIPTION:Jezelf wegcijferen gebeurt vaak zonder dat je het doorhebt.\nJe
  past je aan\, houdt rekening met iedereen\, zorgt\, regelt en gaat door. 
 Je doet alles voor je kinderen\, je partner en de mensen om je heen. En er
 gens onderweg zet je jezelf steeds een beetje opzij — omdat het zo uitko
 mt\, omdat het nodig is\, of simpelweg omdat je het gewend bent.\nTot je i
 neens merkt: waar ben ík eigenlijk gebleven?\n\nMisschien voel je dat je 
 minder goed weet wat jij nodig hebt. Of je weet het wel\, maar het komt er
  simpelweg niet van. Je bent moe\, gaat sneller over je grenzen en neemt w
 einig tijd voor jezelf. En toch ga je door\, want er is altijd wel iets of
  iemand die op je rekent.\n\nDeze Moms Connect ochtend staat in het teken 
 van jezelf wegcijferen.\n\nIn een kleine\, warme en veilige groep creëren
  we ruimte om hier eerlijk naar te kijken. Zonder oordeel\, zonder dat het
  ‘anders moet’\, maar met aandacht voor jouw verhaal. Voor wat jij gee
 ft\, wat het je kost en wat jij nodig hebt om jezelf niet steeds op de laa
 tste plek te zetten.\n\nEen plek om even stil te staan\, te voelen en weer
  een stukje dichter bij jezelf te komen.\n\nJe hoeft het niet alleen te do
 en.\n\nVoel je welkom. 🤍\n\n&nbsp\;\n\nWil je meer uitwisselen met ande
 re ouders b.v. rondom het thema moederschap/ moeder-zijn/ creatieviteit? S
 luit je aan bij onze (online) WhatsAppcommunity\n\nBen je door onze meet-u
 p’s en/of workshops geïnspireerd en wil je zelf iets bijdragen maar zoe
 k je nog naar een passende genegenheid?\n\nBij ons Oudernetwerk Leidsche R
 ijn Ouders-Connected denken we graag met je mee hoe jouw ideeën vorm geve
 n:\n\n📬 Heb je een idee voor een activiteit of workshop\, maar weet je 
 nog niet precies hoe je dat kunt aanpakken?\n\n🧠 Of wil je gewoon af en
  toe meedenken of iets kleins bijdragen?\n\nOf wil je gewoon kennis maken?
  Zit je ergens mee?\n\n📱 Laat het ons weten – je bent van harte welko
 m (leidscherijnouders@gmail.com)\n\n&nbsp\;\n\nEnglish below:\n\nPutting y
 ourself last often happens without you even realizing it.\n\nYou adapt\, t
 ake everyone into account\, care\, organize\, and keep going. You do every
 thing for your children\, your partner\, and the people around you. And so
 mewhere along the way\, you slowly start putting yourself aside — becaus
 e it’s easier\, because it’s needed\, or simply because you’re used 
 to it.\n\nUntil one day you find yourself wondering: where did I go?\n\nMa
 ybe you feel like you no longer really know what you need. Or maybe you do
  know\, but it just never seems to happen. You feel tired\, you cross your
  own boundaries more easily\, and you rarely take time for yourself. And s
 till\, you keep going — because there is always someone or something tha
 t needs you.\n\nThis Moms Connect morning is all about putting yourself la
 st.\n\nIn a small\, warm\, and safe group\, we create space to look at thi
 s honestly. Without judgment\, without pressure to change\, but with atten
 tion for your story. For what you give\, what it costs you\, and what you 
 need to stop putting yourself at the very end of the list.\n\nA place to p
 ause\, to feel\, and to reconnect with yourself.\n\nYou don’t have to do
  this alone.\n\nYou are so welcome. 🤍\n\n&nbsp\;\n\nIn advance to you f
 or your information:\n\nWould you like to exchange more with other parents
  e.g. around the topic of motherhood/motherhood? Join our (online) WhatsA
 pp community.\n\nAre you inspired by our meet-ups and/or workshops and wou
 ld you like to contribute something yourself but are still looking for an 
 appropriate affection?\n\nAt our Parent Network Leidsche Rijn Parents-Conn
 ected we like to think with you how your ideas take shape:\n\nDo you have 
 an idea for an activity or workshop\, but are not yet sure how to go about
  it?\n\nOr do you just want to contribute something small?\n\nOr do you ju
 st want to get acquainted? Something on your mind?\n\nLet us know – you
 ’re welcome (leidscherijnouders@gmail.com)
LOCATION:Buurtcentrum Hoge Weide Zaal 4\, Laurierweg 104\, Utrecht\, Nederl
 and
X-APPLE-STRUCTURED-LOCATION;VALUE=URI;X-ADDRESS=Laurierweg 104\, Utrecht\, 
 Nederland;X-APPLE-RADIUS=100;X-TITLE=Buurtcentrum Hoge Weide Zaal 4:geo:0,
 0
END:VEVENT
END:VCALENDAR